BEGIN:VCALENDAR
VERSION:2.0
PRODID:-//CEEI Elche//EmprenemJunts//ES
BEGIN:VEVENT
UID:Evento_14697
DTSTAMP:20190209T102624Z
DTSTART:20190211T180000Z
DTEND:20190211T200000Z
SUMMARY:Meet Up WordPress
DESCRIPTION:
LOCATION:Alacant/Alicante (Alicante)
URL:https://ceeielche.emprenemjunts.es/?op=14&n=14697
GEO:38.346554;-0.483857
END:VEVENT
END:VCALENDAR
