BEGIN:VCALENDAR
VERSION:2.0
PRODID:-//CEEI Valencia//EmprenemJunts//ES
BEGIN:VEVENT
UID:Evento_14578
DTSTAMP:20190118T152234Z
DTSTART:20190128T190000Z
DTEND:20190128T203000Z
SUMMARY:Mesa redonda: Los retos de emprender. XII Premios Ideas UPV
DESCRIPTION:Ateneo Club de Innovación y Empresa - Ciclo Startups y Emprendimiento
LOCATION:Valencia (Valencia)
URL:https://ceeivalencia.emprenemjunts.es/?op=14&n=14578
GEO:39.471176;-0.376286
END:VEVENT
END:VCALENDAR
