BEGIN:VCALENDAR
VERSION:2.0
PRODID:-//CEEI Valencia//EmprenemJunts//ES
BEGIN:VEVENT
UID:Evento_14413
DTSTAMP:20181123T113714Z
DTSTART:20181214T113000Z
DTEND:20181214T130000Z
SUMMARY:SEGURIDAD IT, ¿ESTÁS AL DÍA? INTELIGENCIA ARTIFICIAL, NOVEDADES Y NEGOCIO.
DESCRIPTION:
LOCATION:Valencia (Valencia)
URL:https://ceeivalencia.emprenemjunts.es/?op=14&n=14413
GEO:39.461609;-0.329946
END:VEVENT
END:VCALENDAR
