BEGIN:VCALENDAR
VERSION:2.0
PRODID:-//CEEI Valencia//EmprenemJunts//ES
BEGIN:VEVENT
UID:Evento_14412
DTSTAMP:20181123T113155Z
DTSTART:20181211T163000Z
DTEND:20181211T180000Z
SUMMARY:CÓMO RENTABILIZAR UN EVENTO DEPORTIVO A TRAVÉS DEL ENTORNO DIGITAL.
DESCRIPTION:
LOCATION:Valencia (Valencia)
URL:https://ceeivalencia.emprenemjunts.es/?op=14&n=14412
GEO:39.461609;-0.329946
END:VEVENT
END:VCALENDAR
