BEGIN:VCALENDAR
VERSION:2.0
PRODID:-//CEEI Valencia//EmprenemJunts//ES
BEGIN:VEVENT
UID:Evento_14410
DTSTAMP:20181123T092827Z
DTSTART:20181126T113000Z
DTEND:20181126T130000Z
SUMMARY:IÑAKI ARROLA: TODO LO QUE HE HECHO MAL COMO EMPRENDEDOR E INVERSOR.
DESCRIPTION:
LOCATION:Valencia (Valencia)
URL:https://ceeivalencia.emprenemjunts.es/?op=14&n=14410
GEO:39.461609;-0.329946
END:VEVENT
END:VCALENDAR
