BEGIN:VCALENDAR
VERSION:2.0
PRODID:-//CEEI Elche//EmprenemJunts//ES
BEGIN:VEVENT
UID:Evento_14263
DTSTAMP:20181026T090315Z
DTSTART:20190308T163000Z
DTEND:20190308T173000Z
SUMMARY:Gestionar proyectos eficientemente con metodología PRINCE2
DESCRIPTION:La metodología de gestión de proyectos más utilizada por los grandes organismos internacionales
LOCATION:Alacant/Alicante (Alicante)
URL:https://ceeielche.emprenemjunts.es/?op=14&n=14263
GEO:38.360203;-0.423924
END:VEVENT
END:VCALENDAR
