BEGIN:VCALENDAR
VERSION:2.0
PRODID:-//Focus Pyme y Emprendimiento//EmprenemJunts//ES
BEGIN:VEVENT
UID:Evento_14025
DTSTAMP:20180924T102118Z
DTSTART:20181023T084500Z
DTEND:20181023T094500Z
SUMMARY:De empresa tradicional a negocio del siglo XXI en el sector agroalimentario
DESCRIPTION:
LOCATION:Gandia (Valencia)
URL:https://focuspyme.emprenemjunts.es/?op=14&n=14025
GEO:38.965183;-0.181845
END:VEVENT
END:VCALENDAR
