BEGIN:VCALENDAR
VERSION:2.0
PRODID:-//CEEI Elche//EmprenemJunts//ES
BEGIN:VEVENT
UID:Evento_13386
DTSTAMP:20180407T164724Z
DTSTART:20180606T060000Z
DTEND:20180606T130000Z
SUMMARY:Golpe de Efecto: El Despertar de la Pyme
DESCRIPTION:
LOCATION:Murcia (Murcia)
URL:https://ceeielche.emprenemjunts.es/?op=14&n=13386
END:VEVENT
END:VCALENDAR
