BEGIN:VCALENDAR
VERSION:2.0
PRODID:-//CEEI Castellón//EmprenemJunts//ES
BEGIN:VEVENT
UID:Evento_13285
DTSTAMP:20180315T094319Z
DTSTART:20180517T070000Z
DTEND:20180518T180000Z
SUMMARY:I Congreso Internacional Marca, Territorio y Deporte
DESCRIPTION:Dar a conocer las oportunidades que ofrecen estratÃ©gicamente tres conceptos como son la marca, el territorio y el deport
LOCATION:CastellÃ³ de la Plana/CastellÃ³n de la Plana (CastellÃ³n)
URL:https://ceeicastellon.emprenemjunts.es/?op=14&n=13285
GEO:39.994446;-0.068889
END:VEVENT
END:VCALENDAR
