BEGIN:VCALENDAR
VERSION:2.0
PRODID:-//CEEI Castell髇//EmprenemJunts//ES
BEGIN:VEVENT
UID:Evento_13207
DTSTAMP:20180221T180654Z
DTSTART:20180314T173000Z
DTEND:20180314T183000Z
SUMMARY:La Gesti贸n Documental como palanca de cambio hacia la digitalizaci贸n empresarial
DESCRIPTION:La Gesti贸n Documental como palanca de cambio hacia la digitalizaci贸n empresarial
LOCATION:Castell贸 de la Plana/Castell贸n de la Plana (Castell贸n)
URL:https://ceeicastellon.emprenemjunts.es/?op=14&n=13207
END:VEVENT
END:VCALENDAR
