BEGIN:VCALENDAR
VERSION:2.0
PRODID:-//CEEI Valencia//EmprenemJunts//ES
BEGIN:VEVENT
UID:Evento_12735
DTSTAMP:20171023T112147Z
DTSTART:20171103T090000Z
DTEND:20171103T130000Z
SUMMARY:Jornada de Presentación de la nueva Plataforma Hw+Sw de Eficiencia Energética
DESCRIPTION:Sistema para optimizar on-line y de forma remota la Eficiencia Energética Eléctrica. Proyecto auspiciado por la CE.
LOCATION:Paterna (Valencia)
URL:https://ceeivalencia.emprenemjunts.es/?op=14&n=12735
GEO:39.515778;-0.424758
END:VEVENT
END:VCALENDAR
