BEGIN:VCALENDAR
VERSION:2.0
PRODID:-//Focus Pyme y Emprendimiento//EmprenemJunts//ES
BEGIN:VEVENT
UID:Evento_12489
DTSTAMP:20170904T093942Z
DTSTART:20170928T083000Z
DTEND:20170928T091500Z
SUMMARY:Blockchain: la revolución de la transparencia en las transacciones
DESCRIPTION:Área Focus Innovación
LOCATION:Castelló de la Plana/Castellón de la Plana (Castellón)
URL:https://focuspyme.emprenemjunts.es/?op=14&n=12489
GEO:39.993362;-0.023827
END:VEVENT
END:VCALENDAR
