BEGIN:VCALENDAR
VERSION:2.0
PRODID:-//Focus Pyme y Emprendimiento//EmprenemJunts//ES
BEGIN:VEVENT
UID:Evento_12426
DTSTAMP:20170803T124516Z
DTSTART:20170928T080000Z
DTEND:20170928T094500Z
SUMMARY:La visión europea, principales retos y oportunidades
DESCRIPTION:Área Europa Oportunidades
LOCATION:Castelló de la Plana/Castellón de la Plana (Castellón)
URL:https://focuspyme.emprenemjunts.es/?op=14&n=12426
GEO:39.993362;-0.023827
END:VEVENT
END:VCALENDAR
