BEGIN:VCALENDAR
VERSION:2.0
PRODID:-//CEEI Elche//EmprenemJunts//ES
BEGIN:VEVENT
UID:Evento_11989
DTSTAMP:20170419T100800Z
DTSTART:20170602T070000Z
DTEND:20170602T180000Z
SUMMARY:GOLPE DE EFECTO: el Despertar de la PYME
DESCRIPTION:Con Josef Ajram, Carlos Delgado y Luis Galindo. Como maestro de ceremonias el humorista Txabi Franquesa
LOCATION:Elx/Elche (Alicante)
URL:https://ceeielche.emprenemjunts.es/?op=14&n=11989
END:VEVENT
END:VCALENDAR
