BEGIN:VCALENDAR
VERSION:2.0
PRODID:-//CEEI Valencia//EmprenemJunts//ES
BEGIN:VEVENT
UID:Evento_11459
DTSTAMP:20161121T092009Z
DTSTART:20161130T180000Z
DTEND:20161202T190000Z
SUMMARY:Valencia, capital de los dominios de internet
DESCRIPTION:MOV Marketing ofrece un descuento del 50%
LOCATION:Valencia (Valencia)
URL:https://ceeivalencia.emprenemjunts.es/?op=14&n=11459
END:VEVENT
END:VCALENDAR
