BEGIN:VCALENDAR
VERSION:2.0
PRODID:-//CEEI Castellón//EmprenemJunts//ES
BEGIN:VEVENT
UID:Evento_11216
DTSTAMP:20161007T134434Z
DTSTART:20161028T083000Z
DTEND:20161028T093000Z
SUMMARY:Taller Tech: Â“Innovando con tecnologÃ­as disruptivasÂ”
DESCRIPTION:Programa de Impulso al Emprendimiento TecnolÃ³gico
LOCATION:CastellÃ³ de la Plana/CastellÃ³n de la Plana (CastellÃ³n)
URL:https://ceeicastellon.emprenemjunts.es/?op=14&n=11216
END:VEVENT
END:VCALENDAR
