BEGIN:VCALENDAR
VERSION:2.0
PRODID:-//CEEI Valencia//EmprenemJunts//ES
BEGIN:VEVENT
UID:Evento_11098
DTSTAMP:20160916T082842Z
DTSTART:20160920T170000Z
DTEND:20160920T190000Z
SUMMARY:Los cambios en Google, protagonistas de la tercera edición de DigitalValencia
DESCRIPTION:El encuentro será el martes 20 de septiembre, a las 19:00 en el Salón de Actos del Parc Científic de la Universitat de Valènc
LOCATION:Paterna (Valencia)
URL:https://ceeivalencia.emprenemjunts.es/?op=14&n=11098
END:VEVENT
END:VCALENDAR
